BEGIN:VCALENDAR
VERSION:2.0
PRODID:-//217.160.0.118//NONSGML kigkonsult.se iCalcreator 2.20//
CALSCALE:GREGORIAN
METHOD:PUBLISH
X-WR-TIMEZONE:UTC
BEGIN:VEVENT
UID:event103@Asociación Libertad Emocional
DTSTAMP:20260422T105047Z
CATEGORIES:Cursos
DESCRIPTION:Clases regulares de  LooSEtresS©\nCategoría: Cursos\nEnlace: ht
 tps://www.libertademocional.es/index.php?option=com_jem&view=event&id=103
 \n
DTSTART:20150630T190000Z
DTEND:20150630T200000Z
LOCATION:Alzentro\,C/ Alonso Heredia\, 5\,28028 Madrid
SUMMARY:Clases regulares de  LooSEtresS©
URL:https://www.libertademocional.es/index.php?option=com_jem&view=event&id
 =103
END:VEVENT
END:VCALENDAR
