BEGIN:VCALENDAR
VERSION:2.0
PRODID:-//217.160.0.118//NONSGML kigkonsult.se iCalcreator 2.20//
CALSCALE:GREGORIAN
METHOD:PUBLISH
X-WR-TIMEZONE:UTC
BEGIN:VEVENT
UID:event1098@Asociación Libertad Emocional
DTSTAMP:20260424T084030Z
CATEGORIES:Charlas gratuitas
DESCRIPTION:CRECER con Paloma Hornos\nCategoría: Charlas gratuitas\nEnlace:
  https://www.libertademocional.es/index.php?option=com_jem&view=event&id=1
 098:crecer-con-paloma-hornos\n
DTSTART:20210307T090000Z
DTEND:20210307T100000Z
SUMMARY:CRECER con Paloma Hornos
URL:https://www.libertademocional.es/index.php?option=com_jem&view=event&id
 =1098:crecer-con-paloma-hornos
END:VEVENT
END:VCALENDAR
