BEGIN:VCALENDAR
VERSION:2.0
PRODID:-//217.160.0.118//NONSGML kigkonsult.se iCalcreator 2.20//
CALSCALE:GREGORIAN
METHOD:PUBLISH
X-WR-TIMEZONE:UTC
BEGIN:VEVENT
UID:event123@Asociación Libertad Emocional
DTSTAMP:20260424T090822Z
CATEGORIES:Charlas gratuitas
DESCRIPTION:Presentación del Curso en Técnicas de Libertad Emocional (Salam
 anca)\nCategoría: Charlas gratuitas\nEnlace: https://www.libertademocional
 .es/index.php?option=com_jem&view=event&id=123\n
DTSTART:20151010T180000Z
DTEND:20151010T200000Z
LOCATION:Centro Espacio de Luz\,Paseo de la Estación 48\, Primer piso\, ofi
 cina 3\,37008 Salamanca
SUMMARY:Presentación del Curso en Técnicas de Libertad Emocional (Salamanca
 )
URL:https://www.libertademocional.es/index.php?option=com_jem&view=event&id
 =123
END:VEVENT
END:VCALENDAR
