BEGIN:VCALENDAR
VERSION:2.0
PRODID:-//217.160.0.118//NONSGML kigkonsult.se iCalcreator 2.20//
CALSCALE:GREGORIAN
METHOD:PUBLISH
X-WR-TIMEZONE:UTC
BEGIN:VEVENT
UID:event1413@Asociación Libertad Emocional
DTSTAMP:20260422T223508Z
CATEGORIES:Actividades Cortas
DESCRIPTION:Presentación del libro 'Libertad Emocional - Portal a una Nueva
  Vida'\nCategoría: Actividades Cortas\nEnlace: https://www.libertademocion
 al.es/index.php?option=com_jem&view=event&id=1413:presentacion-del-libro-l
 ibertad-emocional-portal-a-una-nueva-vida\n
DTSTART:20220514T180000Z
DTEND:20220514T190000Z
LOCATION:Herbolario: Los Cedros\,Calle del Comercio 49\,28760 Tres Cantos
SUMMARY:Presentación del libro 'Libertad Emocional - Portal a una Nueva Vid
 a'
URL:https://www.libertademocional.es/index.php?option=com_jem&view=event&id
 =1413:presentacion-del-libro-libertad-emocional-portal-a-una-nueva-vida
END:VEVENT
END:VCALENDAR
