BEGIN:VCALENDAR
VERSION:2.0
PRODID:-//217.160.0.118//NONSGML kigkonsult.se iCalcreator 2.20//
CALSCALE:GREGORIAN
METHOD:PUBLISH
X-WR-TIMEZONE:UTC
BEGIN:VEVENT
UID:event1415@Asociación Libertad Emocional
DTSTAMP:20260422T210130Z
CATEGORIES:Charlas gratuitas
DESCRIPTION:1er Congreso Internacional Libertad Emocional\nCategoría: Charl
 as gratuitas\nEnlace: https://www.libertademocional.es/index.php?option=co
 m_jem&view=event&id=1415:1er-congreso-libertad-emocional\n
DTSTART;VALUE=DATE:20220716
DTEND;VALUE=DATE:20220718
LOCATION:on-line
SUMMARY:1er Congreso Internacional Libertad Emocional
URL:https://www.libertademocional.es/index.php?option=com_jem&view=event&id
 =1415:1er-congreso-libertad-emocional
END:VEVENT
END:VCALENDAR
