BEGIN:VCALENDAR
VERSION:2.0
PRODID:-//217.160.0.118//NONSGML kigkonsult.se iCalcreator 2.20//
CALSCALE:GREGORIAN
METHOD:PUBLISH
X-WR-TIMEZONE:UTC
BEGIN:VEVENT
UID:event1416@Asociación Libertad Emocional
DTSTAMP:20260422T210844Z
CATEGORIES:Cursos on-line
DESCRIPTION:Curso online 'Técnicas de Respiración en el Buceo' \nCategoría:
  Cursos on-line\nEnlace: https://www.libertademocional.es/index.php?option
 =com_jem&view=event&id=1416:curso-online-tecnicas-de-respiracion-en-el-buc
 eo\n
DTSTART;VALUE=DATE:20220620
DTEND;VALUE=DATE:20220627
LOCATION:on-line
SUMMARY:Curso online 'Técnicas de Respiración en el Buceo' 
URL:https://www.libertademocional.es/index.php?option=com_jem&view=event&id
 =1416:curso-online-tecnicas-de-respiracion-en-el-buceo
END:VEVENT
END:VCALENDAR
