BEGIN:VCALENDAR
VERSION:2.0
PRODID:-//217.160.0.118//NONSGML kigkonsult.se iCalcreator 2.20//
CALSCALE:GREGORIAN
METHOD:PUBLISH
X-WR-TIMEZONE:UTC
BEGIN:VEVENT
UID:event1417@Asociación Libertad Emocional
DTSTAMP:20260424T085654Z
CATEGORIES:Cursos on-line
DESCRIPTION:Curso online sobre Autoestima: “… porque ME quiero”\nCategoría:
  Cursos on-line\nEnlace: https://www.libertademocional.es/index.php?option
 =com_jem&view=event&id=1417:curso-online-sobre-autoestima-porque-me-quiero
 \n
DTSTART;VALUE=DATE:20220801
DTEND;VALUE=DATE:20220802
LOCATION:on-line
SUMMARY:Curso online sobre Autoestima: “… porque ME quiero”
URL:https://www.libertademocional.es/index.php?option=com_jem&view=event&id
 =1417:curso-online-sobre-autoestima-porque-me-quiero
END:VEVENT
END:VCALENDAR
