BEGIN:VCALENDAR
VERSION:2.0
PRODID:-//217.160.0.118//NONSGML kigkonsult.se iCalcreator 2.20//
CALSCALE:GREGORIAN
METHOD:PUBLISH
X-WR-TIMEZONE:UTC
BEGIN:VEVENT
UID:event1418@Asociación Libertad Emocional
DTSTAMP:20260422T091614Z
CATEGORIES:Charlas gratuitas
DESCRIPTION:Emociones. El lenguaje de nuestro ser interno\nCategoría: Charl
 as gratuitas\nEnlace: https://www.libertademocional.es/index.php?option=co
 m_jem&view=event&id=1418:emociones-el-lenguaje-de-nuestro-ser-interno\n
DTSTART:20221105T110000Z
DTEND:20221105T123000Z
LOCATION:Kaia Yoga y Terapias\,Av. de Viñuelas\, 34\, posterior\,28760 Tres
  Cantos
SUMMARY:Emociones. El lenguaje de nuestro ser interno
URL:https://www.libertademocional.es/index.php?option=com_jem&view=event&id
 =1418:emociones-el-lenguaje-de-nuestro-ser-interno
END:VEVENT
END:VCALENDAR
