BEGIN:VCALENDAR
VERSION:2.0
PRODID:-//217.160.0.118//NONSGML kigkonsult.se iCalcreator 2.20//
CALSCALE:GREGORIAN
METHOD:PUBLISH
X-WR-TIMEZONE:UTC
BEGIN:VEVENT
UID:event157@Asociación Libertad Emocional
DTSTAMP:20260422T140823Z
CATEGORIES:Cursos
DESCRIPTION:Curso en Técnicas de Libertad Emocional (Madrid) - Día 2/4\nCat
 egoría: Cursos\nEnlace: https://www.libertademocional.es/index.php?option=
 com_jem&view=event&id=157\n
DTSTART:20160409T100000Z
DTEND:20160410T180000Z
LOCATION:Centro Tres Cantos\,-\,2860 Tres Cantos
SUMMARY:Curso en Técnicas de Libertad Emocional (Madrid) - Día 2/4
URL:https://www.libertademocional.es/index.php?option=com_jem&view=event&id
 =157
END:VEVENT
END:VCALENDAR
