BEGIN:VCALENDAR
VERSION:2.0
PRODID:-//217.160.0.118//NONSGML kigkonsult.se iCalcreator 2.20//
CALSCALE:GREGORIAN
METHOD:PUBLISH
X-WR-TIMEZONE:UTC
BEGIN:VEVENT
UID:event203@Asociación Libertad Emocional
DTSTAMP:20260424T102437Z
CATEGORIES:Cursos
DESCRIPTION:Prácticas de Libertad Emocional\nCategoría: Cursos\nEnlace: htt
 ps://www.libertademocional.es/index.php?option=com_jem&view=event&id=203\n
DTSTART:20161008T100000Z
DTEND:20170128T200000Z
LOCATION:Centro Tres Cantos\,-\,2860 Tres Cantos
SUMMARY:Prácticas de Libertad Emocional
URL:https://www.libertademocional.es/index.php?option=com_jem&view=event&id
 =203
END:VEVENT
END:VCALENDAR
