BEGIN:VCALENDAR
VERSION:2.0
PRODID:-//217.160.0.118//NONSGML kigkonsult.se iCalcreator 2.20//
CALSCALE:GREGORIAN
METHOD:PUBLISH
X-WR-TIMEZONE:UTC
BEGIN:VEVENT
UID:event209@Asociación Libertad Emocional
DTSTAMP:20260424T083257Z
CATEGORIES:Cursos on-line
DESCRIPTION:Curso Online de gestión del tiempo\nCategoría: Cursos on-line\n
 Enlace: https://www.libertademocional.es/index.php?option=com_jem&view=eve
 nt&id=209\n
DTSTART;VALUE=DATE:20160910
DTEND;VALUE=DATE:20160911
SUMMARY:Curso Online de gestión del tiempo
URL:https://www.libertademocional.es/index.php?option=com_jem&view=event&id
 =209
END:VEVENT
END:VCALENDAR
