BEGIN:VCALENDAR
VERSION:2.0
PRODID:-//217.160.0.118//NONSGML kigkonsult.se iCalcreator 2.20//
CALSCALE:GREGORIAN
METHOD:PUBLISH
X-WR-TIMEZONE:UTC
BEGIN:VEVENT
UID:event214@Asociación Libertad Emocional
DTSTAMP:20260421T101155Z
CATEGORIES:Otras actividades
DESCRIPTION:Seminario práctico de Libertad Emocional 1/4: realizar un duelo
 \nCategoría: Otras actividades\nEnlace: https://www.libertademocional.es/i
 ndex.php?option=com_jem&view=event&id=214\n
DTSTART:20161122T120000Z
DTEND:20161122T140000Z
LOCATION:Centro 21 de Marzo\,Calle Viento 2\,28760 Tres Cantos
SUMMARY:Seminario práctico de Libertad Emocional 1/4: realizar un duelo
URL:https://www.libertademocional.es/index.php?option=com_jem&view=event&id
 =214
END:VEVENT
END:VCALENDAR
