BEGIN:VCALENDAR
VERSION:2.0
PRODID:-//217.160.0.118//NONSGML kigkonsult.se iCalcreator 2.20//
CALSCALE:GREGORIAN
METHOD:PUBLISH
X-WR-TIMEZONE:UTC
BEGIN:VEVENT
UID:event245@Asociación Libertad Emocional
DTSTAMP:20260422T122814Z
CATEGORIES:Cursos
DESCRIPTION:Curso de Técnicas Energéticas\nCategoría: Cursos\nEnlace: https
 ://www.libertademocional.es/index.php?option=com_jem&view=event&id=245\n
DTSTART:20170318T100000Z
DTEND:20170318T200000Z
LOCATION:Alzentro\,C/ Alonso Heredia\, 5\,28028 Madrid
SUMMARY:Curso de Técnicas Energéticas
URL:https://www.libertademocional.es/index.php?option=com_jem&view=event&id
 =245
END:VEVENT
END:VCALENDAR
