BEGIN:VCALENDAR
VERSION:2.0
PRODID:-//217.160.0.118//NONSGML kigkonsult.se iCalcreator 2.20//
CALSCALE:GREGORIAN
METHOD:PUBLISH
X-WR-TIMEZONE:UTC
BEGIN:VEVENT
UID:event248@Asociación Libertad Emocional
DTSTAMP:20260422T140914Z
CATEGORIES:Cursos
DESCRIPTION:Taller de Bienestar Emocional: 2º trimestre (Tarde)\nCategoría:
  Cursos\nEnlace: https://www.libertademocional.es/index.php?option=com_jem
 &view=event&id=248\n
DTSTART:20170109T183000Z
DTEND:20170109T203000Z
LOCATION:Centro Tres Cantos\,-\,2860 Tres Cantos
SUMMARY:Taller de Bienestar Emocional: 2º trimestre (Tarde)
URL:https://www.libertademocional.es/index.php?option=com_jem&view=event&id
 =248
END:VEVENT
END:VCALENDAR
