BEGIN:VCALENDAR
VERSION:2.0
PRODID:-//217.160.0.118//NONSGML kigkonsult.se iCalcreator 2.20//
CALSCALE:GREGORIAN
METHOD:PUBLISH
X-WR-TIMEZONE:UTC
BEGIN:VEVENT
UID:event24@Asociación Libertad Emocional
DTSTAMP:20260420T111040Z
CATEGORIES:Cursos
DESCRIPTION:Curso en Técnicas de Libertad Emocional (Málaga)\nCategoría: Cu
 rsos\nEnlace: https://www.libertademocional.es/index.php?option=com_jem&vi
 ew=event&id=24\n
DTSTART:20150131T093000Z
DTEND:20150201T173000Z
LOCATION:Centro en Málaga\,36°42'18.3'N 4°42'09.3'W\,29570 Villafranco del 
 Guadalhorce
SUMMARY:Curso en Técnicas de Libertad Emocional (Málaga)
URL:https://www.libertademocional.es/index.php?option=com_jem&view=event&id
 =24
END:VEVENT
END:VCALENDAR
