BEGIN:VCALENDAR
VERSION:2.0
PRODID:-//217.160.0.118//NONSGML kigkonsult.se iCalcreator 2.20//
CALSCALE:GREGORIAN
METHOD:PUBLISH
X-WR-TIMEZONE:UTC
BEGIN:VEVENT
UID:event306@Asociación Libertad Emocional
DTSTAMP:20260422T140912Z
CATEGORIES:Cursos
DESCRIPTION:Taller de Bienestar Emocional: 3er trimestre (Mañana)\nCategorí
 a: Cursos\nEnlace: https://www.libertademocional.es/index.php?option=com_j
 em&view=event&id=306\n
DTSTART:20171002T113000Z
DTEND:20171002T133000Z
LOCATION:Centro Tres Cantos\,-\,2860 Tres Cantos
SUMMARY:Taller de Bienestar Emocional: 3er trimestre (Mañana)
URL:https://www.libertademocional.es/index.php?option=com_jem&view=event&id
 =306
END:VEVENT
END:VCALENDAR
