BEGIN:VCALENDAR
VERSION:2.0
PRODID:-//217.160.0.118//NONSGML kigkonsult.se iCalcreator 2.20//
CALSCALE:GREGORIAN
METHOD:PUBLISH
X-WR-TIMEZONE:UTC
BEGIN:VEVENT
UID:event352@Asociación Libertad Emocional
DTSTAMP:20260420T124203Z
CATEGORIES:Actividades Cortas
DESCRIPTION:Temazcal de Purificación\nCategoría: Actividades Cortas\nEnlace
 : https://www.libertademocional.es/index.php?option=com_jem&view=event&id=
 352\n
DTSTART:20171111T160000Z
DTEND:20171111T220000Z
LOCATION:Temazcal Boadilla\,Río Tajo 74\,28669 Boadilla del Monte
SUMMARY:Temazcal de Purificación
URL:https://www.libertademocional.es/index.php?option=com_jem&view=event&id
 =352
END:VEVENT
END:VCALENDAR
