BEGIN:VCALENDAR
VERSION:2.0
PRODID:-//217.160.0.118//NONSGML kigkonsult.se iCalcreator 2.20//
CALSCALE:GREGORIAN
METHOD:PUBLISH
X-WR-TIMEZONE:UTC
BEGIN:VEVENT
UID:event384@Asociación Libertad Emocional
DTSTAMP:20260422T123817Z
CATEGORIES:Cursos on-line
DESCRIPTION:Curso on-line de formación para ser terapeuta (9 meses)\nCatego
 ría: Cursos on-line\nEnlace: https://www.libertademocional.es/index.php?op
 tion=com_jem&view=event&id=384\n
DTSTART:20180108T173000Z
DTEND:20180108T213000Z
LOCATION:Centro Tres Cantos\,-\,2860 Tres Cantos
SUMMARY:Curso on-line de formación para ser terapeuta (9 meses)
URL:https://www.libertademocional.es/index.php?option=com_jem&view=event&id
 =384
END:VEVENT
END:VCALENDAR
