BEGIN:VCALENDAR
VERSION:2.0
PRODID:-//217.160.0.118//NONSGML kigkonsult.se iCalcreator 2.20//
CALSCALE:GREGORIAN
METHOD:PUBLISH
X-WR-TIMEZONE:UTC
BEGIN:VEVENT
UID:event39@Asociación Libertad Emocional
DTSTAMP:20260422T162405Z
CATEGORIES:Actividades Cortas
DESCRIPTION:Taller: Gimnasia emocional 2/3\nCategoría: Actividades Cortas\n
 Enlace: https://www.libertademocional.es/index.php?option=com_jem&view=eve
 nt&id=39:taller-gimnasia-emocional-23\n
DTSTART:20150213T183000Z
DTEND:20150213T213000Z
LOCATION:Centro de Guadalajara\,C/ Teniente Figueroa 10\,19001 Guadalajara
SUMMARY:Taller: Gimnasia emocional 2/3
URL:https://www.libertademocional.es/index.php?option=com_jem&view=event&id
 =39:taller-gimnasia-emocional-23
END:VEVENT
END:VCALENDAR
