BEGIN:VCALENDAR
VERSION:2.0
PRODID:-//217.160.0.118//NONSGML kigkonsult.se iCalcreator 2.20//
CALSCALE:GREGORIAN
METHOD:PUBLISH
X-WR-TIMEZONE:UTC
BEGIN:VEVENT
UID:event412@Asociación Libertad Emocional
DTSTAMP:20260422T160606Z
CATEGORIES:Charlas gratuitas
DESCRIPTION:Seminario de Libertad Emocional (5/9): Enfermedades psicosomáti
 cas\nCategoría: Charlas gratuitas\nEnlace: https://www.libertademocional.e
 s/index.php?option=com_jem&view=event&id=412\n
DTSTART:20180410T120000Z
DTEND:20180410T140000Z
LOCATION:Centro 21 de Marzo\,Calle Viento 2\,28760 Tres Cantos
SUMMARY:Seminario de Libertad Emocional (5/9): Enfermedades psicosomáticas
URL:https://www.libertademocional.es/index.php?option=com_jem&view=event&id
 =412
END:VEVENT
END:VCALENDAR
