BEGIN:VCALENDAR
VERSION:2.0
PRODID:-//217.160.0.118//NONSGML kigkonsult.se iCalcreator 2.20//
CALSCALE:GREGORIAN
METHOD:PUBLISH
X-WR-TIMEZONE:UTC
BEGIN:VEVENT
UID:event449@Asociación Libertad Emocional
DTSTAMP:20260422T110507Z
CATEGORIES:Cursos
DESCRIPTION:Taller de Bienestar Emocional: 1er trimestre (Tarde)\nCategoría
 : Cursos\nEnlace: https://www.libertademocional.es/index.php?option=com_je
 m&view=event&id=449:taller-de-bienestar-emocional-1er-trimestre-tarde\n
DTSTART:20181001T183000Z
DTEND:20181217T203000Z
LOCATION:Centro Tres Cantos\,-\,2860 Tres Cantos
SUMMARY:Taller de Bienestar Emocional: 1er trimestre (Tarde)
URL:https://www.libertademocional.es/index.php?option=com_jem&view=event&id
 =449:taller-de-bienestar-emocional-1er-trimestre-tarde
END:VEVENT
END:VCALENDAR
