BEGIN:VCALENDAR
VERSION:2.0
PRODID:-//217.160.0.118//NONSGML kigkonsult.se iCalcreator 2.20//
CALSCALE:GREGORIAN
METHOD:PUBLISH
X-WR-TIMEZONE:UTC
BEGIN:VEVENT
UID:event561@Asociación Libertad Emocional
DTSTAMP:20260422T222412Z
CATEGORIES:Charlas gratuitas
DESCRIPTION:Seminario de Libertad Emocional (2/9): Reprogramando el cerebro
 \nCategoría: Charlas gratuitas\nEnlace: https://www.libertademocional.es/i
 ndex.php?option=com_jem&view=event&id=561:seminario-de-libertad-emocional-
 29-reprogramando-el-cerebro\n
DTSTART:20191016T120000Z
DTEND:20191016T140000Z
LOCATION:on-line
SUMMARY:Seminario de Libertad Emocional (2/9): Reprogramando el cerebro
URL:https://www.libertademocional.es/index.php?option=com_jem&view=event&id
 =561:seminario-de-libertad-emocional-29-reprogramando-el-cerebro
END:VEVENT
END:VCALENDAR
