BEGIN:VCALENDAR
VERSION:2.0
PRODID:-//217.160.0.118//NONSGML kigkonsult.se iCalcreator 2.20//
CALSCALE:GREGORIAN
METHOD:PUBLISH
X-WR-TIMEZONE:UTC
BEGIN:VEVENT
UID:event580@Asociación Libertad Emocional
DTSTAMP:20260422T125701Z
CATEGORIES:Charlas gratuitas
DESCRIPTION:Seminario de Libertad Emocional (5/9): Educación Emocional\nCat
 egoría: Charlas gratuitas\nEnlace: https://www.libertademocional.es/index.
 php?option=com_jem&view=event&id=580:seminario-de-libertad-emocional-5-9-e
 ducacion-emocional\n
DTSTART:20200219T113000Z
DTEND:20200219T133000Z
LOCATION:Centro 21 de Marzo\,Calle Viento 2\,28760 Tres Cantos
SUMMARY:Seminario de Libertad Emocional (5/9): Educación Emocional
URL:https://www.libertademocional.es/index.php?option=com_jem&view=event&id
 =580:seminario-de-libertad-emocional-5-9-educacion-emocional
END:VEVENT
END:VCALENDAR
