BEGIN:VCALENDAR
VERSION:2.0
PRODID:-//217.160.0.118//NONSGML kigkonsult.se iCalcreator 2.20//
CALSCALE:GREGORIAN
METHOD:PUBLISH
X-WR-TIMEZONE:UTC
BEGIN:VEVENT
UID:event58@Asociación Libertad Emocional
DTSTAMP:20260422T124211Z
CATEGORIES:Charlas gratuitas
DESCRIPTION:Taller: Sentir la energía\nCategoría: Charlas gratuitas\nEnlace
 : https://www.libertademocional.es/index.php?option=com_jem&view=event&id=
 58\n
DTSTART:20150314T180000Z
DTEND:20150314T200000Z
LOCATION:Herbolario: Los Cedros\,Calle del Comercio 49\,28760 Tres Cantos
SUMMARY:Taller: Sentir la energía
URL:https://www.libertademocional.es/index.php?option=com_jem&view=event&id
 =58
END:VEVENT
END:VCALENDAR
