BEGIN:VCALENDAR
VERSION:2.0
PRODID:-//217.160.0.118//NONSGML kigkonsult.se iCalcreator 2.20//
CALSCALE:GREGORIAN
METHOD:PUBLISH
X-WR-TIMEZONE:UTC
BEGIN:VEVENT
UID:event63@Asociación Libertad Emocional
DTSTAMP:20260422T223523Z
CATEGORIES:Actividades Cortas
DESCRIPTION:Taller de Autoestima y Asertividad: “Soy lo mejor que me ha  pa
 sado”\nCategoría: Actividades Cortas\nEnlace: https://www.libertademociona
 l.es/index.php?option=com_jem&view=event&id=63:taller-de-autoestima-y-aser
 tividad-soy-lo-mejor-que-me-ha-pasado\n
DTSTART:20150314T110000Z
DTEND:20150314T140000Z
LOCATION:MACUBI\,c/Motilla del Palancar 15\,28043 Madrid 
SUMMARY:Taller de Autoestima y Asertividad: “Soy lo mejor que me ha  pasado
 ”
URL:https://www.libertademocional.es/index.php?option=com_jem&view=event&id
 =63:taller-de-autoestima-y-asertividad-soy-lo-mejor-que-me-ha-pasado
END:VEVENT
END:VCALENDAR
