BEGIN:VCALENDAR
VERSION:2.0
PRODID:-//217.160.0.118//NONSGML kigkonsult.se iCalcreator 2.20//
CALSCALE:GREGORIAN
METHOD:PUBLISH
X-WR-TIMEZONE:UTC
BEGIN:VEVENT
UID:event71@Asociación Libertad Emocional
DTSTAMP:20260422T090826Z
CATEGORIES:Cursos
DESCRIPTION:Clases regulares de  LooSEtresS©\nCategoría: Cursos\nEnlace: ht
 tps://www.libertademocional.es/index.php?option=com_jem&view=event&id=71\n
DTSTART:20150407T190000Z
DTEND:20150407T200000Z
LOCATION:Alzentro\,C/ Alonso Heredia\, 5\,28028 Madrid
SUMMARY:Clases regulares de  LooSEtresS©
URL:https://www.libertademocional.es/index.php?option=com_jem&view=event&id
 =71
END:VEVENT
END:VCALENDAR
