BEGIN:VCALENDAR
VERSION:2.0
PRODID:-//217.160.0.118//NONSGML kigkonsult.se iCalcreator 2.20//
CALSCALE:GREGORIAN
METHOD:PUBLISH
X-WR-TIMEZONE:UTC
BEGIN:VEVENT
UID:event73@Asociación Libertad Emocional
DTSTAMP:20260422T122609Z
CATEGORIES:Actividades Cortas
DESCRIPTION:Talleres de Relajacion y Meditación Creativa\nCategoría: Activi
 dades Cortas\nEnlace: https://www.libertademocional.es/index.php?option=co
 m_jem&view=event&id=73\n
DTSTART:20150411T110000Z
DTEND:20150411T140000Z
LOCATION:MACUBI\,c/Motilla del Palancar 15\,28043 Madrid 
SUMMARY:Talleres de Relajacion y Meditación Creativa
URL:https://www.libertademocional.es/index.php?option=com_jem&view=event&id
 =73
END:VEVENT
END:VCALENDAR
