BEGIN:VCALENDAR
VERSION:2.0
PRODID:-//217.160.0.118//NONSGML kigkonsult.se iCalcreator 2.20//
CALSCALE:GREGORIAN
METHOD:PUBLISH
X-WR-TIMEZONE:UTC
BEGIN:VEVENT
UID:event895@Asociación Libertad Emocional
DTSTAMP:20260422T223328Z
CATEGORIES:Cursos on-line
DESCRIPTION:Curso on-line: Coaching y Terapia Asistidos por Caballos \nCate
 goría: Cursos on-line\nEnlace: https://www.libertademocional.es/index.php?
 option=com_jem&view=event&id=895:curso-on-line-coaching-y-terapia-asistido
 s-por-caballos\n
DTSTART;VALUE=DATE:20200310
DTEND;VALUE=DATE:20200311
SUMMARY:Curso on-line: Coaching y Terapia Asistidos por Caballos 
URL:https://www.libertademocional.es/index.php?option=com_jem&view=event&id
 =895:curso-on-line-coaching-y-terapia-asistidos-por-caballos
END:VEVENT
END:VCALENDAR
