BEGIN:VCALENDAR
VERSION:2.0
PRODID:-//217.160.0.118//NONSGML kigkonsult.se iCalcreator 2.20//
CALSCALE:GREGORIAN
METHOD:PUBLISH
X-WR-TIMEZONE:UTC
BEGIN:VEVENT
UID:event89@Asociación Libertad Emocional
DTSTAMP:20260421T083143Z
CATEGORIES:Otras actividades
DESCRIPTION:Festival de primavera del Círculo Ágora\nCategoría: Otras activ
 idades\nEnlace: https://www.libertademocional.es/index.php?option=com_jem&
 view=event&id=89\n
DTSTART:20150606T120000Z
DTEND:20150606T200000Z
LOCATION:Campamento Valle del Tiétar 1\,Camino Majalhorno s/n\,05440 Piedra
 laves
SUMMARY:Festival de primavera del Círculo Ágora
URL:https://www.libertademocional.es/index.php?option=com_jem&view=event&id
 =89
END:VEVENT
END:VCALENDAR
