BEGIN:VCALENDAR
VERSION:2.0
PRODID:-//217.160.0.118//NONSGML kigkonsult.se iCalcreator 2.20//
CALSCALE:GREGORIAN
METHOD:PUBLISH
X-WR-TIMEZONE:UTC
BEGIN:VEVENT
UID:event985@Asociación Libertad Emocional
DTSTAMP:20260422T143958Z
CATEGORIES:Charlas gratuitas
DESCRIPTION:Webinar para Padres y Docentes: Herramientas para  recuperar el
  equilibrio\nCategoría: Charlas gratuitas\nEnlace: https://www.libertademo
 cional.es/index.php?option=com_jem&view=event&id=985:webinar-para-padres-y
 -docentes-el-reto-de-educar-con-alegria-y-optimismo\n
DTSTART:20200621T180000Z
DTEND:20200621T180000Z
LOCATION:on-line
SUMMARY:Webinar para Padres y Docentes: Herramientas para  recuperar el equ
 ilibrio
URL:https://www.libertademocional.es/index.php?option=com_jem&view=event&id
 =985:webinar-para-padres-y-docentes-el-reto-de-educar-con-alegria-y-optimi
 smo
END:VEVENT
END:VCALENDAR
