BEGIN:VCALENDAR
VERSION:2.0
PRODID:-//217.160.0.118//NONSGML kigkonsult.se iCalcreator 2.20//
CALSCALE:GREGORIAN
METHOD:PUBLISH
X-WR-TIMEZONE:UTC
BEGIN:VEVENT
UID:event105@Asociación Libertad Emocional
DTSTAMP:20260425T130849Z
CATEGORIES:Cursos
DESCRIPTION:Curso: formación para ser terapeuta\nCategoría: Cursos\nEnlace:
  https://www.libertademocional.es/index.php?option=com_jem&view=event&id=1
 05\n
DTSTART:20151002T180000Z
DTEND:20151002T220000Z
LOCATION:Centro Tres Cantos\,-\,2860 Tres Cantos
SUMMARY:Curso: formación para ser terapeuta
URL:https://www.libertademocional.es/index.php?option=com_jem&view=event&id
 =105
END:VEVENT
END:VCALENDAR
