BEGIN:VCALENDAR
VERSION:2.0
PRODID:-//217.160.0.118//NONSGML kigkonsult.se iCalcreator 2.20//
CALSCALE:GREGORIAN
METHOD:PUBLISH
X-WR-TIMEZONE:UTC
BEGIN:VEVENT
UID:event984@Asociación Libertad Emocional
DTSTAMP:20260425T020009Z
CATEGORIES:Charlas gratuitas
DESCRIPTION:Webinar para Padres y Docentes: Herramientas para gestionar tus
  emociones\nCategoría: Charlas gratuitas\nEnlace: https://www.libertademoc
 ional.es/index.php?option=com_jem&view=event&id=984:webinar-para-padres-y-
 docentes-el-reto-de-educar-con-alegria-y-optimismo\n
DTSTART:20200620T180000Z
DTEND:20200620T180000Z
LOCATION:on-line
SUMMARY:Webinar para Padres y Docentes: Herramientas para gestionar tus emo
 ciones
URL:https://www.libertademocional.es/index.php?option=com_jem&view=event&id
 =984:webinar-para-padres-y-docentes-el-reto-de-educar-con-alegria-y-optimi
 smo
END:VEVENT
END:VCALENDAR
