BEGIN:VCALENDAR
VERSION:2.0
PRODID:-//217.160.0.118//NONSGML kigkonsult.se iCalcreator 2.20//
CALSCALE:GREGORIAN
METHOD:PUBLISH
X-WR-TIMEZONE:UTC
BEGIN:VEVENT
UID:event62@Asociación Libertad Emocional
DTSTAMP:20260422T091022Z
CATEGORIES:Charlas gratuitas
DESCRIPTION:Minitaller de Libertad Emocional para niñ@s\nCategoría: Charlas
  gratuitas\nEnlace: https://www.libertademocional.es/index.php?option=com_
 jem&view=event&id=62\n
DTSTART:20150313T163000Z
DTEND:20150313T180000Z
LOCATION:CEIP Ángel Castro\,C/ Silo S/N\,28816 Valdeavero\,Spain
SUMMARY:Minitaller de Libertad Emocional para niñ@s
URL:https://www.libertademocional.es/index.php?option=com_jem&view=event&id
 =62
END:VEVENT
END:VCALENDAR
