BEGIN:VCALENDAR
VERSION:2.0
PRODID:-//217.160.0.118//NONSGML kigkonsult.se iCalcreator 2.20//
CALSCALE:GREGORIAN
METHOD:PUBLISH
X-WR-TIMEZONE:UTC
BEGIN:VEVENT
UID:event1@Asociación Libertad Emocional
DTSTAMP:20260422T124451Z
CATEGORIES:Charlas gratuitas
DESCRIPTION:Charla: Libertad Emocional. Un camino a la Felicidad\nCategoría
 : Charlas gratuitas\nEnlace: https://www.libertademocional.es/index.php?op
 tion=com_jem&view=event&id=1:charla-libertad-emocional-un-camino-a-la-feli
 cidad\n
DTSTART:20141121T180000Z
DTEND:20141121T200000Z
LOCATION:Centro Municipal de Mayores (Sala Multiusos)\,Av de Labradores 24\
 ,28760 Tres Cantos\,Spain
SUMMARY:Charla: Libertad Emocional. Un camino a la Felicidad
URL:https://www.libertademocional.es/index.php?option=com_jem&view=event&id
 =1:charla-libertad-emocional-un-camino-a-la-felicidad
END:VEVENT
BEGIN:VEVENT
UID:event48@Asociación Libertad Emocional
DTSTAMP:20260422T124451Z
CATEGORIES:Charlas gratuitas
DESCRIPTION:Reactivando cuerpo\, mente y emociones (se traslada al 6 de mar
 zo)\nCategoría: Charlas gratuitas\nEnlace: https://www.libertademocional.e
 s/index.php?option=com_jem&view=event&id=48:reactivando-cuerpo-mente-y-emo
 ciones\n
DTSTART:20150227T180000Z
DTEND:20150227T200000Z
LOCATION:Centro Municipal de Mayores (Sala Multiusos)\,Av de Labradores 24\
 ,28760 Tres Cantos\,Spain
SUMMARY:Reactivando cuerpo\, mente y emociones (se traslada al 6 de marzo)
URL:https://www.libertademocional.es/index.php?option=com_jem&view=event&id
 =48:reactivando-cuerpo-mente-y-emociones
END:VEVENT
BEGIN:VEVENT
UID:event57@Asociación Libertad Emocional
DTSTAMP:20260422T124451Z
CATEGORIES:Charlas gratuitas
DESCRIPTION:Reactivando cuerpo\, mente y emociones\nCategoría: Charlas grat
 uitas\nEnlace: https://www.libertademocional.es/index.php?option=com_jem&v
 iew=event&id=57:reactivando-cuerpo-mente-y-emociones\n
DTSTART:20150306T180000Z
DTEND:20150306T200000Z
LOCATION:Centro Municipal de Mayores (Sala Multiusos)\,Av de Labradores 24\
 ,28760 Tres Cantos\,Spain
SUMMARY:Reactivando cuerpo\, mente y emociones
URL:https://www.libertademocional.es/index.php?option=com_jem&view=event&id
 =57:reactivando-cuerpo-mente-y-emociones
END:VEVENT
END:VCALENDAR
