BEGIN:VCALENDAR
VERSION:2.0
PRODID:-//217.160.0.118//NONSGML kigkonsult.se iCalcreator 2.20//
CALSCALE:GREGORIAN
METHOD:PUBLISH
X-WR-TIMEZONE:UTC
BEGIN:VEVENT
UID:event311@Asociación Libertad Emocional
DTSTAMP:20260420T230117Z
CATEGORIES:Actividades Cortas
DESCRIPTION:Taller de Herramientas Anti Estrés\nCategoría: Actividades Cort
 as\nEnlace: https://www.libertademocional.es/index.php?option=com_jem&view
 =event&id=311\n
DTSTART:20170923T103000Z
DTEND:20170923T203000Z
LOCATION:Espacio Puerta de la Sierra\,Avenida puerto de Despeñaperros s/n\,
 28729 Urb. Los Cotos de Monterrey (Venturada)\,Spain
SUMMARY:Taller de Herramientas Anti Estrés
URL:https://www.libertademocional.es/index.php?option=com_jem&view=event&id
 =311
END:VEVENT
BEGIN:VEVENT
UID:event312@Asociación Libertad Emocional
DTSTAMP:20260420T230117Z
CATEGORIES:Actividades Cortas
DESCRIPTION:Taller de Herramientas para gestionar tus emociones\nCategoría:
  Actividades Cortas\nEnlace: https://www.libertademocional.es/index.php?op
 tion=com_jem&view=event&id=312:taller-de-herramientas-para-gestionar-tus-e
 mociones\n
DTSTART:20170930T103000Z
DTEND:20170930T203000Z
LOCATION:Espacio Puerta de la Sierra\,Avenida puerto de Despeñaperros s/n\,
 28729 Urb. Los Cotos de Monterrey (Venturada)\,Spain
SUMMARY:Taller de Herramientas para gestionar tus emociones
URL:https://www.libertademocional.es/index.php?option=com_jem&view=event&id
 =312:taller-de-herramientas-para-gestionar-tus-emociones
END:VEVENT
BEGIN:VEVENT
UID:event325@Asociación Libertad Emocional
DTSTAMP:20260420T230117Z
CATEGORIES:Actividades Cortas
DESCRIPTION:Taller de Herramientas Anti Estrés\nCategoría: Actividades Cort
 as\nEnlace: https://www.libertademocional.es/index.php?option=com_jem&view
 =event&id=325\n
DTSTART:20171111T103000Z
DTEND:20171111T203000Z
LOCATION:Espacio Puerta de la Sierra\,Avenida puerto de Despeñaperros s/n\,
 28729 Urb. Los Cotos de Monterrey (Venturada)\,Spain
SUMMARY:Taller de Herramientas Anti Estrés
URL:https://www.libertademocional.es/index.php?option=com_jem&view=event&id
 =325
END:VEVENT
BEGIN:VEVENT
UID:event324@Asociación Libertad Emocional
DTSTAMP:20260420T230117Z
CATEGORIES:Actividades Cortas
DESCRIPTION:Taller de Herramientas para gestionar tus emociones\nCategoría:
  Actividades Cortas\nEnlace: https://www.libertademocional.es/index.php?op
 tion=com_jem&view=event&id=324:taller-de-herramientas-para-gestionar-tus-e
 mociones\n
DTSTART:20171125T103000Z
DTEND:20171125T203000Z
LOCATION:Espacio Puerta de la Sierra\,Avenida puerto de Despeñaperros s/n\,
 28729 Urb. Los Cotos de Monterrey (Venturada)\,Spain
SUMMARY:Taller de Herramientas para gestionar tus emociones
URL:https://www.libertademocional.es/index.php?option=com_jem&view=event&id
 =324:taller-de-herramientas-para-gestionar-tus-emociones
END:VEVENT
END:VCALENDAR
